BEGIN:VCALENDAR
VERSION:2.0
PRODID:-//YBMC - ECPv6.15.14//NONSGML v1.0//EN
CALSCALE:GREGORIAN
METHOD:PUBLISH
X-WR-CALNAME:YBMC
X-ORIGINAL-URL:https://ybmc.live
X-WR-CALDESC:Events for YBMC
REFRESH-INTERVAL;VALUE=DURATION:PT1H
X-Robots-Tag:noindex
X-PUBLISHED-TTL:PT1H
BEGIN:VTIMEZONE
TZID:UTC
BEGIN:STANDARD
TZOFFSETFROM:+0000
TZOFFSETTO:+0000
TZNAME:UTC
DTSTART:20240101T000000
END:STANDARD
END:VTIMEZONE
BEGIN:VEVENT
DTSTART;TZID=UTC:20250207T090000
DTEND;TZID=UTC:20250207T150000
DTSTAMP:20260419T175531
CREATED:20241128T091352Z
LAST-MODIFIED:20241216T082810Z
UID:138-1738918800-1738940400@ybmc.live
SUMMARY:Young Black Male Conference
DESCRIPTION:The Young Black Male Conference (YBMC) is a transformative event dedicated to empowering\, educating\, and inspiring young Black males to achieve their fullest potential. Designed as a space for connection\, growth\, and celebration\, the conference addresses the unique challenges faced by young Black men while highlighting their strengths\, resilience\, and contributions to society.\n\n\n\n\n\n\n\n\n\n\nThrough dynamic workshops\, powerful keynote speeches\, and an inspiring awards ceremony\, YBMC provides attendees with the tools\, resources\, and mentorship they need to thrive in their personal and professional lives. The conference fosters community by bringing together leaders\, changemakers\, and peers to share stories\, exchange ideas\, and build lasting networks. \nWith a mission to uplift and empower\, YBMC is not just an event—it’s a movement dedicated to creating opportunities\, breaking barriers\, and shaping a brighter future for young Black males everywhere. \n\n\n\n\n\n\nThe key feature of the Young Black Male Conference (YBMC) is its holistic approach to empowering and uplifting young Black males by addressing their unique challenges and opportunities. This is achieved through a combination of impactful elements\, such as: \n\nWorkshops: Hands-on sessions focused on personal development\, financial literacy\, career guidance\, mental health\, and leadership skills.\nKeynote Speakers: Inspirational talks from successful Black leaders\, educators\, and changemakers who share their journeys and insights.\nNetworking Opportunities: A platform for attendees to connect with mentors\, peers\, and professionals\, fostering community and collaboration.\nAwards Ceremony: Celebrating and honoring the achievements and contributions of young Black male leaders in various fields.\nResources and Support: Access to tools\, materials\, and mentorship to help participants take actionable steps toward their goals.\n\nThese features collectively make the conference a transformative experience\, blending education\, inspiration\, and celebration.
URL:https://ybmc.live/event/black-young-male-conference/
CATEGORIES:conference
ATTACH;FMTTYPE=image/jpeg:https://ybmc.live/wp-content/uploads/2024/11/2024-YAAM-Conference-038-scaled.jpg
END:VEVENT
END:VCALENDAR